Package: GBScleanR Version: 2.3.2 Command: F:\biocbuild\bbs-3.22-bioc\R\bin\R.exe CMD check --no-multiarch --install=check:GBScleanR.install-out.txt --library=F:\biocbuild\bbs-3.22-bioc\R\library --no-vignettes --timings GBScleanR_2.3.2.tar.gz StartedAt: 2025-07-12 02:06:03 -0400 (Sat, 12 Jul 2025) EndedAt: 2025-07-12 02:10:28 -0400 (Sat, 12 Jul 2025) EllapsedTime: 265.4 seconds RetCode: 0 Status: OK CheckDir: GBScleanR.Rcheck Warnings: 0