Package: GAprediction Version: 1.35.0 Command: /Library/Frameworks/R.framework/Resources/bin/R CMD INSTALL GAprediction StartedAt: 2025-06-29 15:04:30 -0400 (Sun, 29 Jun 2025) EndedAt: 2025-06-29 15:04:36 -0400 (Sun, 29 Jun 2025) EllapsedTime: 5.4 seconds RetCode: 0 Status: OK