Package: GAprediction Version: 1.35.0 Command: /Library/Frameworks/R.framework/Resources/bin/R CMD check --install=check:GAprediction.install-out.txt --library=/Library/Frameworks/R.framework/Resources/library --no-vignettes --timings GAprediction_1.35.0.tar.gz StartedAt: 2025-06-29 19:18:35 -0400 (Sun, 29 Jun 2025) EndedAt: 2025-06-29 19:19:06 -0400 (Sun, 29 Jun 2025) EllapsedTime: 30.4 seconds RetCode: 0 Status: OK CheckDir: GAprediction.Rcheck Warnings: 0