Package: GAprediction Version: 1.35.0 Command: /Library/Frameworks/R.framework/Resources/bin/R CMD build --keep-empty-dirs --no-resave-data GAprediction StartedAt: 2025-06-29 16:21:57 -0400 (Sun, 29 Jun 2025) EndedAt: 2025-06-29 16:22:12 -0400 (Sun, 29 Jun 2025) EllapsedTime: 15.2 seconds RetCode: 0 Status: OK PackageFile: GAprediction_1.35.0.tar.gz PackageFileSize: 1.806 MiB