Package: GAprediction Version: 1.35.0 Command: rm -rf GAprediction.buildbin-libdir && mkdir GAprediction.buildbin-libdir && /Users/biocbuild/BBS/utils/build-universal.sh GAprediction_1.35.0.tar.gz /Library/Frameworks/R.framework/Resources/bin/R GAprediction.buildbin-libdir StartedAt: 2025-06-29 22:18:33 -0400 (Sun, 29 Jun 2025) EndedAt: 2025-06-29 22:18:41 -0400 (Sun, 29 Jun 2025) EllapsedTime: 7.1 seconds RetCode: 0 Status: OK PackageFile: GAprediction_1.35.0.tgz PackageFileSize: 885.2 KiB