Package: GARS Version: 1.29.0 Command: /home/biocbuild/R/R/bin/R CMD INSTALL GARS StartedAt: 2025-07-21 21:23:24 -0000 (Mon, 21 Jul 2025) EndedAt: 2025-07-21 21:24:39 -0000 (Mon, 21 Jul 2025) EllapsedTime: 75.0 seconds RetCode: 0 Status: OK