Package: GARS Version: 1.29.0 Command: /home/biocbuild/R/R/bin/R CMD check --install=check:GARS.install-out.txt --library=/home/biocbuild/R/R/site-library --no-vignettes --timings GARS_1.29.0.tar.gz StartedAt: 2025-07-22 07:25:30 -0000 (Tue, 22 Jul 2025) EndedAt: 2025-07-22 07:33:29 -0000 (Tue, 22 Jul 2025) EllapsedTime: 479.3 seconds RetCode: 0 Status: OK CheckDir: GARS.Rcheck Warnings: 0