Package: GARS Version: 1.29.0 Command: /home/biocbuild/R/R/bin/R CMD build --keep-empty-dirs --no-resave-data GARS StartedAt: 2025-07-21 23:50:37 -0000 (Mon, 21 Jul 2025) EndedAt: 2025-07-21 23:53:10 -0000 (Mon, 21 Jul 2025) EllapsedTime: 153.1 seconds RetCode: 0 Status: OK PackageFile: GARS_1.29.0.tar.gz PackageFileSize: 429 KiB