Package: GARS Version: 1.29.0 Command: F:\biocbuild\bbs-3.22-bioc\R\bin\R.exe CMD INSTALL GARS StartedAt: 2025-08-14 16:52:52 -0400 (Thu, 14 Aug 2025) EndedAt: 2025-08-14 16:54:11 -0400 (Thu, 14 Aug 2025) EllapsedTime: 79.3 seconds RetCode: 0 Status: OK