Package: GA4GHshiny Version: 1.31.0 Command: F:\biocbuild\bbs-3.22-bioc\R\bin\R.exe CMD INSTALL GA4GHshiny StartedAt: 2025-07-15 16:54:55 -0400 (Tue, 15 Jul 2025) EndedAt: 2025-07-15 16:55:43 -0400 (Tue, 15 Jul 2025) EllapsedTime: 48.0 seconds RetCode: 0 Status: OK