Package: GA4GHshiny Version: 1.31.0 Command: chmod a+r GA4GHshiny -R && F:\biocbuild\bbs-3.22-bioc\R\bin\R.exe CMD build --keep-empty-dirs --no-resave-data GA4GHshiny StartedAt: 2025-07-16 19:09:21 -0400 (Wed, 16 Jul 2025) EndedAt: 2025-07-16 19:10:16 -0400 (Wed, 16 Jul 2025) EllapsedTime: 55.3 seconds RetCode: 0 Status: OK PackageFile: GA4GHshiny_1.31.0.tar.gz PackageFileSize: 298.8 KiB