Package: G4SNVHunter Version: 1.1.4 Command: /home/biocbuild/R/R/bin/R CMD build --keep-empty-dirs --no-resave-data G4SNVHunter StartedAt: 2025-06-26 23:38:10 -0000 (Thu, 26 Jun 2025) EndedAt: 2025-06-26 23:39:13 -0000 (Thu, 26 Jun 2025) EllapsedTime: 63.0 seconds RetCode: 0 Status: OK PackageFile: G4SNVHunter_1.1.4.tar.gz PackageFileSize: 1.006 MiB