Package: G4SNVHunter Version: 1.1.4 Command: chmod a+r G4SNVHunter -R && F:\biocbuild\bbs-3.22-bioc\R\bin\R.exe CMD build --keep-empty-dirs --no-resave-data G4SNVHunter StartedAt: 2025-07-01 19:09:50 -0400 (Tue, 01 Jul 2025) EndedAt: 2025-07-01 19:11:01 -0400 (Tue, 01 Jul 2025) EllapsedTime: 71.3 seconds RetCode: 0 Status: OK PackageFile: G4SNVHunter_1.1.4.tar.gz PackageFileSize: 1006 KiB