Package: FlowSOM Version: 2.17.0 Command: rm -rf FlowSOM.buildbin-libdir && mkdir FlowSOM.buildbin-libdir && /Users/biocbuild/BBS/utils/build-universal.sh FlowSOM_2.17.0.tar.gz /Library/Frameworks/R.framework/Resources/bin/R FlowSOM.buildbin-libdir StartedAt: 2025-10-11 02:30:06 -0400 (Sat, 11 Oct 2025) EndedAt: 2025-10-11 02:30:34 -0400 (Sat, 11 Oct 2025) EllapsedTime: 28.0 seconds RetCode: 0 Status: OK PackageFile: FlowSOM_2.17.0.tgz PackageFileSize: 5.232 MiB