Package: FlowSOM Version: 2.17.0 Command: rm -rf FlowSOM.buildbin-libdir && mkdir FlowSOM.buildbin-libdir && /Users/biocbuild/BBS/utils/build-universal.sh FlowSOM_2.17.0.tar.gz /Library/Frameworks/R.framework/Resources/bin/R FlowSOM.buildbin-libdir StartedAt: 2025-10-10 22:41:24 -0400 (Fri, 10 Oct 2025) EndedAt: 2025-10-10 22:41:31 -0400 (Fri, 10 Oct 2025) EllapsedTime: 7.1 seconds RetCode: 0 Status: OK PackageFile: FlowSOM_2.17.0.tgz PackageFileSize: 5.236 MiB