Package: FindIT2 Version: 1.15.0 Command: /home/biocbuild/R/R/bin/R CMD INSTALL FindIT2 StartedAt: 2025-07-10 21:55:01 -0000 (Thu, 10 Jul 2025) EndedAt: 2025-07-10 21:55:50 -0000 (Thu, 10 Jul 2025) EllapsedTime: 48.8 seconds RetCode: 0 Status: OK