Package: FindIT2 Version: 1.15.0 Command: rm -rf FindIT2.buildbin-libdir && mkdir FindIT2.buildbin-libdir && F:\biocbuild\bbs-3.22-bioc\R\bin\R.exe CMD INSTALL --build --library=FindIT2.buildbin-libdir FindIT2_1.15.0.tar.gz StartedAt: 2025-07-21 09:02:50 -0400 (Mon, 21 Jul 2025) EndedAt: 2025-07-21 09:03:44 -0400 (Mon, 21 Jul 2025) EllapsedTime: 53.7 seconds RetCode: 0 Status: OK PackageFile: FindIT2_1.15.0.zip PackageFileSize: 1.543 MiB