Package: FindIT2 Version: 1.15.0 Command: /Library/Frameworks/R.framework/Resources/bin/R CMD check --install=check:FindIT2.install-out.txt --library=/Library/Frameworks/R.framework/Resources/library --no-vignettes --timings FindIT2_1.15.0.tar.gz StartedAt: 2025-07-01 20:48:39 -0400 (Tue, 01 Jul 2025) EndedAt: 2025-07-01 20:55:00 -0400 (Tue, 01 Jul 2025) EllapsedTime: 381.3 seconds RetCode: 0 Status: OK CheckDir: FindIT2.Rcheck Warnings: 0