Package: FindIT2 Version: 1.15.0 Command: /Library/Frameworks/R.framework/Resources/bin/R CMD build --keep-empty-dirs --no-resave-data FindIT2 StartedAt: 2025-07-01 17:00:05 -0400 (Tue, 01 Jul 2025) EndedAt: 2025-07-01 17:01:46 -0400 (Tue, 01 Jul 2025) EllapsedTime: 100.6 seconds RetCode: 0 Status: OK PackageFile: FindIT2_1.15.0.tar.gz PackageFileSize: 2.318 MiB