Package: FilterFFPE Version: 1.19.0 Maintainer: Lanying Wei MaintainerEmail: lanying.wei at uni-muenster.de git_url: https://git.bioconductor.org/packages/FilterFFPE git_branch: devel git_last_commit: dd5e1cd git_last_commit_date: 2025-04-15 12:08:41 -0400 (Tue, 15 Apr 2025)