Package: FastqCleaner Version: 1.27.0 Command: F:\biocbuild\bbs-3.22-bioc\R\bin\R.exe CMD INSTALL FastqCleaner StartedAt: 2025-07-11 16:51:06 -0400 (Fri, 11 Jul 2025) EndedAt: 2025-07-11 16:52:49 -0400 (Fri, 11 Jul 2025) EllapsedTime: 103.0 seconds RetCode: 0 Status: OK