Package: FamAgg Version: 1.37.0 Command: /Library/Frameworks/R.framework/Resources/bin/R CMD INSTALL FamAgg StartedAt: 2025-06-29 15:13:06 -0400 (Sun, 29 Jun 2025) EndedAt: 2025-06-29 15:13:23 -0400 (Sun, 29 Jun 2025) EllapsedTime: 16.9 seconds RetCode: 0 Status: OK