Package: FamAgg Version: 1.37.0 Command: /Library/Frameworks/R.framework/Resources/bin/R CMD build --keep-empty-dirs --no-resave-data FamAgg StartedAt: 2025-06-29 16:43:55 -0400 (Sun, 29 Jun 2025) EndedAt: 2025-06-29 16:45:14 -0400 (Sun, 29 Jun 2025) EllapsedTime: 78.5 seconds RetCode: 0 Status: OK PackageFile: FamAgg_1.37.0.tar.gz PackageFileSize: 1.645 MiB