Package: FamAgg Version: 1.37.0 Command: rm -rf FamAgg.buildbin-libdir && mkdir FamAgg.buildbin-libdir && /Users/biocbuild/BBS/utils/build-universal.sh FamAgg_1.37.0.tar.gz /Library/Frameworks/R.framework/Resources/bin/R FamAgg.buildbin-libdir StartedAt: 2025-06-30 00:38:43 -0400 (Mon, 30 Jun 2025) EndedAt: 2025-06-30 00:39:03 -0400 (Mon, 30 Jun 2025) EllapsedTime: 19.8 seconds RetCode: 0 Status: OK PackageFile: FamAgg_1.37.0.tgz PackageFileSize: 2.144 MiB