Package: FRASER Version: 2.5.2 Command: /home/biocbuild/R/R/bin/R CMD build --keep-empty-dirs --no-resave-data FRASER StartedAt: 2025-10-10 00:37:33 -0000 (Fri, 10 Oct 2025) EndedAt: 2025-10-10 00:44:34 -0000 (Fri, 10 Oct 2025) EllapsedTime: 421.2 seconds RetCode: 0 Status: OK PackageFile: FRASER_2.5.2.tar.gz PackageFileSize: 2.117 MiB