Package: FRASER Version: 2.5.2 Command: /Library/Frameworks/R.framework/Resources/bin/R CMD check --install=check:FRASER.install-out.txt --library=/Library/Frameworks/R.framework/Resources/library --no-vignettes --timings FRASER_2.5.2.tar.gz StartedAt: 2025-10-10 21:56:54 -0400 (Fri, 10 Oct 2025) EndedAt: 2025-10-10 22:22:26 -0400 (Fri, 10 Oct 2025) EllapsedTime: 1532.8 seconds RetCode: 0 Status: OK CheckDir: FRASER.Rcheck Warnings: 0