Package: FLAMES Version: 2.3.0 Command: /home/biocbuild/R/R/bin/R CMD check --install=check:FLAMES.install-out.txt --library=/home/biocbuild/R/R/site-library --no-vignettes --timings FLAMES_2.3.0.tar.gz StartedAt: 2025-05-30 06:31:27 -0000 (Fri, 30 May 2025) EndedAt: 2025-05-30 06:39:35 -0000 (Fri, 30 May 2025) EllapsedTime: 487.5 seconds RetCode: 1 Status: ERROR CheckDir: FLAMES.Rcheck Warnings: NA