Package: FLAMES Version: 2.3.3 Command: /home/biocbuild/bbs-3.22-bioc/R/bin/R CMD INSTALL FLAMES StartedAt: 2025-07-06 15:50:36 -0400 (Sun, 06 Jul 2025) EndedAt: 2025-07-06 15:52:30 -0400 (Sun, 06 Jul 2025) EllapsedTime: 114.8 seconds RetCode: 0 Status: OK