Package: FLAMES Version: 2.3.3 Command: /home/biocbuild/bbs-3.22-bioc/R/bin/R CMD check --install=check:FLAMES.install-out.txt --library=/home/biocbuild/bbs-3.22-bioc/R/site-library --timings FLAMES_2.3.3.tar.gz StartedAt: 2025-07-06 22:15:20 -0400 (Sun, 06 Jul 2025) EndedAt: 2025-07-06 22:39:36 -0400 (Sun, 06 Jul 2025) EllapsedTime: 1456.5 seconds RetCode: 0 Status: OK CheckDir: FLAMES.Rcheck Warnings: 0