Package: FLAMES Version: 2.3.3 Command: /home/biocbuild/bbs-3.22-bioc/R/bin/R CMD build --keep-empty-dirs --no-resave-data --md5 FLAMES StartedAt: 2025-07-06 17:12:07 -0400 (Sun, 06 Jul 2025) EndedAt: 2025-07-06 17:14:33 -0400 (Sun, 06 Jul 2025) EllapsedTime: 146.2 seconds RetCode: 0 Status: OK PackageFile: FLAMES_2.3.3.tar.gz PackageFileSize: 4.067 MiB