Package: FLAMES Version: 2.3.3 Command: /Library/Frameworks/R.framework/Resources/bin/R CMD check --install=check:FLAMES.install-out.txt --library=/Library/Frameworks/R.framework/Resources/library --no-vignettes --timings FLAMES_2.3.3.tar.gz StartedAt: 2025-07-07 20:44:12 -0400 (Mon, 07 Jul 2025) EndedAt: 2025-07-07 21:12:36 -0400 (Mon, 07 Jul 2025) EllapsedTime: 1704.0 seconds RetCode: 0 Status: OK CheckDir: FLAMES.Rcheck Warnings: 0