Package: FLAMES Version: 2.3.3 Command: rm -rf FLAMES.buildbin-libdir && mkdir FLAMES.buildbin-libdir && /Users/biocbuild/BBS/utils/build-universal.sh FLAMES_2.3.3.tar.gz /Library/Frameworks/R.framework/Resources/bin/R FLAMES.buildbin-libdir StartedAt: 2025-07-06 22:18:17 -0400 (Sun, 06 Jul 2025) EndedAt: 2025-07-06 22:19:34 -0400 (Sun, 06 Jul 2025) EllapsedTime: 76.6 seconds RetCode: 0 Status: OK PackageFile: FLAMES_2.3.3.tgz PackageFileSize: 7.345 MiB