Package: FISHalyseR Version: 1.43.0 Command: /home/biocbuild/R/R/bin/R CMD INSTALL FISHalyseR StartedAt: 2025-07-17 20:22:04 -0000 (Thu, 17 Jul 2025) EndedAt: 2025-07-17 20:22:10 -0000 (Thu, 17 Jul 2025) EllapsedTime: 6.3 seconds RetCode: 0 Status: OK