Package: FISHalyseR Version: 1.43.0 Command: /home/biocbuild/R/R/bin/R CMD check --install=check:FISHalyseR.install-out.txt --library=/home/biocbuild/R/R/site-library --no-vignettes --timings FISHalyseR_1.43.0.tar.gz StartedAt: 2025-07-18 06:48:36 -0000 (Fri, 18 Jul 2025) EndedAt: 2025-07-18 06:49:22 -0000 (Fri, 18 Jul 2025) EllapsedTime: 46.0 seconds RetCode: 0 Status: WARNINGS CheckDir: FISHalyseR.Rcheck Warnings: 2