Package: FISHalyseR Version: 1.43.0 Command: F:\biocbuild\bbs-3.22-bioc\R\bin\R.exe CMD INSTALL FISHalyseR StartedAt: 2025-07-18 16:28:22 -0400 (Fri, 18 Jul 2025) EndedAt: 2025-07-18 16:28:37 -0400 (Fri, 18 Jul 2025) EllapsedTime: 15.1 seconds RetCode: 0 Status: OK