Package: FISHalyseR Version: 1.43.0 Command: F:\biocbuild\bbs-3.22-bioc\R\bin\R.exe CMD check --no-multiarch --install=check:FISHalyseR.install-out.txt --library=F:\biocbuild\bbs-3.22-bioc\R\library --no-vignettes --timings FISHalyseR_1.43.0.tar.gz StartedAt: 2025-07-19 02:10:45 -0400 (Sat, 19 Jul 2025) EndedAt: 2025-07-19 02:11:38 -0400 (Sat, 19 Jul 2025) EllapsedTime: 52.9 seconds RetCode: 0 Status: WARNINGS CheckDir: FISHalyseR.Rcheck Warnings: 2