Package: FISHalyseR Version: 1.43.0 Command: rm -rf FISHalyseR.buildbin-libdir && mkdir FISHalyseR.buildbin-libdir && F:\biocbuild\bbs-3.22-bioc\R\bin\R.exe CMD INSTALL --build --library=FISHalyseR.buildbin-libdir FISHalyseR_1.43.0.tar.gz StartedAt: 2025-07-19 09:07:44 -0400 (Sat, 19 Jul 2025) EndedAt: 2025-07-19 09:07:57 -0400 (Sat, 19 Jul 2025) EllapsedTime: 13.3 seconds RetCode: 0 Status: OK PackageFile: FISHalyseR_1.43.0.zip PackageFileSize: 833.9 KiB