Package: FISHalyseR Version: 1.43.0 Command: /Library/Frameworks/R.framework/Resources/bin/R CMD INSTALL FISHalyseR StartedAt: 2025-07-18 15:13:21 -0400 (Fri, 18 Jul 2025) EndedAt: 2025-07-18 15:13:29 -0400 (Fri, 18 Jul 2025) EllapsedTime: 8.1 seconds RetCode: 0 Status: OK