Package: FISHalyseR Version: 1.43.0 Command: /Library/Frameworks/R.framework/Resources/bin/R CMD check --install=check:FISHalyseR.install-out.txt --library=/Library/Frameworks/R.framework/Resources/library --no-vignettes --timings FISHalyseR_1.43.0.tar.gz StartedAt: 2025-07-18 19:17:51 -0400 (Fri, 18 Jul 2025) EndedAt: 2025-07-18 19:18:10 -0400 (Fri, 18 Jul 2025) EllapsedTime: 19.2 seconds RetCode: 0 Status: WARNINGS CheckDir: FISHalyseR.Rcheck Warnings: 2