Package: FGNet Version: 3.43.0 Command: chmod a+r FGNet -R && F:\biocbuild\bbs-3.22-bioc\R\bin\R.exe CMD build --keep-empty-dirs --no-resave-data FGNet StartedAt: 2025-06-29 19:00:56 -0400 (Sun, 29 Jun 2025) EndedAt: 2025-06-29 19:01:34 -0400 (Sun, 29 Jun 2025) EllapsedTime: 37.9 seconds RetCode: 0 Status: OK PackageFile: FGNet_3.43.0.tar.gz PackageFileSize: 2.72 MiB