Package: FELLA Version: 1.29.0 Command: /home/biocbuild/R/R/bin/R CMD INSTALL FELLA StartedAt: 2025-06-30 20:42:18 -0000 (Mon, 30 Jun 2025) EndedAt: 2025-06-30 20:42:39 -0000 (Mon, 30 Jun 2025) EllapsedTime: 21.1 seconds RetCode: 0 Status: OK