Package: FELLA Version: 1.29.0 Command: /home/biocbuild/bbs-3.22-bioc/R/bin/R CMD INSTALL FELLA StartedAt: 2025-07-11 15:22:59 -0400 (Fri, 11 Jul 2025) EndedAt: 2025-07-11 15:23:14 -0400 (Fri, 11 Jul 2025) EllapsedTime: 14.8 seconds RetCode: 0 Status: OK