Package: FELLA Version: 1.29.0 Command: /Library/Frameworks/R.framework/Resources/bin/R CMD INSTALL FELLA StartedAt: 2025-07-04 15:09:01 -0400 (Fri, 04 Jul 2025) EndedAt: 2025-07-04 15:09:09 -0400 (Fri, 04 Jul 2025) EllapsedTime: 7.2 seconds RetCode: 0 Status: OK