Package: FEAST Version: 1.17.0 Command: /home/biocbuild/R/R/bin/R CMD check --install=check:FEAST.install-out.txt --library=/home/biocbuild/R/R/site-library --no-vignettes --timings FEAST_1.17.0.tar.gz StartedAt: 2025-07-22 07:09:45 -0000 (Tue, 22 Jul 2025) EndedAt: 2025-07-22 07:13:44 -0000 (Tue, 22 Jul 2025) EllapsedTime: 239.1 seconds RetCode: 0 Status: OK CheckDir: FEAST.Rcheck Warnings: 0