Package: FEAST Version: 1.17.0 Command: F:\biocbuild\bbs-3.22-bioc\R\bin\R.exe CMD INSTALL FEAST StartedAt: 2025-07-22 16:02:51 -0400 (Tue, 22 Jul 2025) EndedAt: 2025-07-22 16:03:32 -0400 (Tue, 22 Jul 2025) EllapsedTime: 41.2 seconds RetCode: 0 Status: OK