Package: FEAST Version: 1.17.0 Command: /Library/Frameworks/R.framework/Resources/bin/R CMD build --keep-empty-dirs --no-resave-data FEAST StartedAt: 2025-07-07 16:54:34 -0400 (Mon, 07 Jul 2025) EndedAt: 2025-07-07 16:55:47 -0400 (Mon, 07 Jul 2025) EllapsedTime: 73.2 seconds RetCode: 0 Status: OK PackageFile: FEAST_1.17.0.tar.gz PackageFileSize: 3.456 MiB