Package: FEAST Version: 1.17.0 Command: /Library/Frameworks/R.framework/Resources/bin/R CMD INSTALL FEAST StartedAt: 2025-07-15 15:22:41 -0400 (Tue, 15 Jul 2025) EndedAt: 2025-07-15 15:22:54 -0400 (Tue, 15 Jul 2025) EllapsedTime: 12.6 seconds RetCode: 0 Status: OK