Package: ExperimentSubset Version: 1.19.0 Command: F:\biocbuild\bbs-3.22-bioc\R\bin\R.exe CMD INSTALL ExperimentSubset StartedAt: 2025-07-07 16:20:37 -0400 (Mon, 07 Jul 2025) EndedAt: 2025-07-07 16:22:18 -0400 (Mon, 07 Jul 2025) EllapsedTime: 101.2 seconds RetCode: 0 Status: OK