Package: ExperimentSubset Version: 1.19.0 Command: chmod a+r ExperimentSubset -R && F:\biocbuild\bbs-3.22-bioc\R\bin\R.exe CMD build --keep-empty-dirs --no-resave-data ExperimentSubset StartedAt: 2025-07-07 18:57:20 -0400 (Mon, 07 Jul 2025) EndedAt: 2025-07-07 18:58:25 -0400 (Mon, 07 Jul 2025) EllapsedTime: 65.0 seconds RetCode: 0 Status: OK PackageFile: ExperimentSubset_1.19.0.tar.gz PackageFileSize: 307.5 KiB