Package: ExperimentSubset Version: 1.19.0 Command: rm -rf ExperimentSubset.buildbin-libdir && mkdir ExperimentSubset.buildbin-libdir && F:\biocbuild\bbs-3.22-bioc\R\bin\R.exe CMD INSTALL --build --library=ExperimentSubset.buildbin-libdir ExperimentSubset_1.19.0.tar.gz StartedAt: 2025-07-08 08:54:55 -0400 (Tue, 08 Jul 2025) EndedAt: 2025-07-08 09:00:42 -0400 (Tue, 08 Jul 2025) EllapsedTime: 347.1 seconds RetCode: 0 Status: OK PackageFile: ExperimentSubset_1.19.0.zip PackageFileSize: 712.6 KiB